BEGIN:VCALENDAR
VERSION:2.0
METHOD:PUBLISH
PRODID:-//Accessible Web Design//My Calendar//http://www.joedolson.com//v//EN';
BEGIN:VEVENT
UID:93-25
LOCATION:
SUMMARY:アーリーオープン 11:00~
DTSTAMP:20240406T110000
ORGANIZER;CN=tsurukian:MAILTO:press@ichien.jp
DTSTART:20240406T110000
DTEND:20240406T120000
CATEGORIES:General
URL;VALUE=URI:https://ichien.jp/tsurukian/mc-events/アーリーオープン-1100/?mc_id=93
DESCRIPTION:
END:VEVENT
END:VCALENDAR