BEGIN:VCALENDAR
VERSION:2.0
METHOD:PUBLISH
PRODID:-//Accessible Web Design//My Calendar//http://www.joedolson.com//v//EN';
BEGIN:VEVENT
UID:80-14
LOCATION:
SUMMARY:休業日
DTSTAMP:20240327
ORGANIZER;CN=tsurukian:MAILTO:press@ichien.jp
DTSTART:20240327
DTEND:20240328
CATEGORIES:General
URL;VALUE=URI:https://ichien.jp/tsurukian/mc-events/休業日-4/?mc_id=80
DESCRIPTION:
X-FUNAMBOL-ALLDAY: 1
X-MICROSOFT-CDO-ALLDAYEVENT: TRUE

END:VEVENT
END:VCALENDAR