BEGIN:VCALENDAR
VERSION:2.0
METHOD:PUBLISH
PRODID:-//Accessible Web Design//My Calendar//http://www.joedolson.com//v//EN';
BEGIN:VEVENT
UID:95-27
LOCATION:
SUMMARY:臨時営業
DTSTAMP:20240403T113000
ORGANIZER;CN=tsurukian:MAILTO:press@ichien.jp
DTSTART:20240403T113000
DTEND:20240403T123000
CATEGORIES:General
URL;VALUE=URI:https://ichien.jp/tsurukian/mc-events/臨時営業/?mc_id=95
DESCRIPTION:
END:VEVENT
END:VCALENDAR