BEGIN:VCALENDAR
VERSION:2.0
METHOD:PUBLISH
PRODID:-//Accessible Web Design//My Calendar//http://www.joedolson.com//v//EN';
BEGIN:VEVENT
UID:89-21
LOCATION:
SUMMARY:昼のみ営業
DTSTAMP:20240411T110000
ORGANIZER;CN=tsurukian:MAILTO:press@ichien.jp
DTSTART:20240411T110000
DTEND:20240411T150000
CATEGORIES:General
URL;VALUE=URI:https://ichien.jp/tsurukian/mc-events/昼のみ営業/?mc_id=89
DESCRIPTION:
END:VEVENT
END:VCALENDAR